BEGIN:VCALENDAR
VERSION:2.0
PRODID:-//Squarespace Inc/Squarespace 6//v6//EN
BEGIN:VEVENT
UID:582a5e1f414fb5702a750d43@squarespace.com
DTSTAMP:20161115T010257Z
DTSTART:20161120T160000Z
DTEND:20161121T020000Z
SUMMARY:OFF THE EATEN TRUCK 
GEO:-33.776989;150.848022
LOCATION:Rooty Hill RSL\, Rooty Hill Road South\, Rooty Hill\, NSW\, 2766\, 
 Australia
END:VEVENT
END:VCALENDAR
